BEGIN:VCALENDAR
VERSION:2.0
PRODID:-//FCSI - ECPv6.15.15//NONSGML v1.0//EN
CALSCALE:GREGORIAN
METHOD:PUBLISH
X-WR-CALNAME:FCSI
X-ORIGINAL-URL:https://fcsi.org.uk
X-WR-CALDESC:Events for FCSI
REFRESH-INTERVAL;VALUE=DURATION:PT1H
X-Robots-Tag:noindex
X-PUBLISHED-TTL:PT1H
BEGIN:VTIMEZONE
TZID:Europe/London
BEGIN:DAYLIGHT
TZOFFSETFROM:+0000
TZOFFSETTO:+0100
TZNAME:BST
DTSTART:20160327T010000
END:DAYLIGHT
BEGIN:STANDARD
TZOFFSETFROM:+0100
TZOFFSETTO:+0000
TZNAME:GMT
DTSTART:20161030T010000
END:STANDARD
BEGIN:DAYLIGHT
TZOFFSETFROM:+0000
TZOFFSETTO:+0100
TZNAME:BST
DTSTART:20170326T010000
END:DAYLIGHT
BEGIN:STANDARD
TZOFFSETFROM:+0100
TZOFFSETTO:+0000
TZNAME:GMT
DTSTART:20171029T010000
END:STANDARD
BEGIN:DAYLIGHT
TZOFFSETFROM:+0000
TZOFFSETTO:+0100
TZNAME:BST
DTSTART:20180325T010000
END:DAYLIGHT
BEGIN:STANDARD
TZOFFSETFROM:+0100
TZOFFSETTO:+0000
TZNAME:GMT
DTSTART:20181028T010000
END:STANDARD
BEGIN:DAYLIGHT
TZOFFSETFROM:+0000
TZOFFSETTO:+0100
TZNAME:BST
DTSTART:20190331T010000
END:DAYLIGHT
BEGIN:STANDARD
TZOFFSETFROM:+0100
TZOFFSETTO:+0000
TZNAME:GMT
DTSTART:20191027T010000
END:STANDARD
BEGIN:DAYLIGHT
TZOFFSETFROM:+0000
TZOFFSETTO:+0100
TZNAME:BST
DTSTART:20200329T010000
END:DAYLIGHT
BEGIN:STANDARD
TZOFFSETFROM:+0100
TZOFFSETTO:+0000
TZNAME:GMT
DTSTART:20201025T010000
END:STANDARD
BEGIN:DAYLIGHT
TZOFFSETFROM:+0000
TZOFFSETTO:+0100
TZNAME:BST
DTSTART:20210328T010000
END:DAYLIGHT
BEGIN:STANDARD
TZOFFSETFROM:+0100
TZOFFSETTO:+0000
TZNAME:GMT
DTSTART:20211031T010000
END:STANDARD
BEGIN:DAYLIGHT
TZOFFSETFROM:+0000
TZOFFSETTO:+0100
TZNAME:BST
DTSTART:20220327T010000
END:DAYLIGHT
BEGIN:STANDARD
TZOFFSETFROM:+0100
TZOFFSETTO:+0000
TZNAME:GMT
DTSTART:20221030T010000
END:STANDARD
END:VTIMEZONE
BEGIN:VEVENT
DTSTART;TZID=Europe/London:20210609T000000
DTEND;TZID=Europe/London:20210609T000000
DTSTAMP:20260423T184510
CREATED:20210519T104017Z
LAST-MODIFIED:20210602T075524Z
UID:1197-1623196800-1623196800@fcsi.org.uk
SUMMARY:How to find new work opportunities and get the most out of networking (Pre-recorded)
DESCRIPTION:Host\nAlistair Sandall\, FIH \nWhen you start your own consultancy there can often be worries about where your next batch of work will come from. Many consultants have sleepless nights when things go quiet and then suddenly projects come in waves. Our experienced consultants will share ideas of where to get new work\, meet new contacts and how to sell yourself at networking events. The panel will also share their experience of managing workloads and getting that all important work-life balance. \nPanellists\nAnn Elliott\nMaryJane Flanagan\nVic Laws \nPre-recorded & available to watch at www.fcsi.org.uk.
URL:https://fcsi.org.uk/event/how-to-find-new-work-opportunities-and-get-the-most-out-of-networking-pre-recorded/
CATEGORIES:Webinars
END:VEVENT
BEGIN:VEVENT
DTSTART;TZID=Europe/London:20210607T110000
DTEND;TZID=Europe/London:20210607T110000
DTSTAMP:20260423T184510
CREATED:20210519T102818Z
LAST-MODIFIED:20210603T140937Z
UID:1194-1623063600-1623063600@fcsi.org.uk
SUMMARY:Lessons from the experts – the information every consultant wished they knew when they started
DESCRIPTION:Host\nMark Taylor\, Bloom Foodservice \nWe’ll be hearing from experienced consultants about what it is like to run a consultancy. The panel will share their stories\, the highs and lows and answer your burning questions. You will come away from this session inspired to start or develop your consultancy business but with a clear understanding of what it takes to succeed. You will also be able to learn more about the free online toolkit the FCSI UK&I has created along with other industry associations to help you kick-start your business. \nPanellists\nJulian Edwards\, GY5\nGiovanna Grossi\, Sauce Intelligence\nLouise Wagstaffe\, Delicious by Design\nKen Winch\, Ken Winch Design \nThis is a free session\, and you can register in advance for this webinar here: \nhttps://us02web.zoom.us/webinar/register/WN_l5MpRLO1RduyGo_fUphbiA \nAfter registering\, you will receive a confirmation email containing information about joining the webinar.
URL:https://fcsi.org.uk/event/lessons-from-the-experts-the-information-every-consultant-wished-they-knew-when-they-started/
LOCATION:Zoom
CATEGORIES:Webinars
ORGANIZER;CN="Louise Willis":MAILTO:louise@fcsi.org
END:VEVENT
BEGIN:VEVENT
DTSTART;VALUE=DATE:20210303
DTEND;VALUE=DATE:20210304
DTSTAMP:20260423T184510
CREATED:20210216T093945Z
LAST-MODIFIED:20210216T102416Z
UID:1112-1614729600-1614815999@fcsi.org.uk
SUMMARY:TASTE - LEARN - CONNECT
DESCRIPTION:TASTE\nFormer National Chef of the Year\, Hayden Groves\, is delivering an exclusive online Risotto masterclass for FCSI members in our next Taste-Learn-Connect event. \nSupported by Riso Gallo\,Groves will showcase two dishes from his award-winning charity book “back in the saddle” these can both be replicated at your leisure\, as you will each be receiving a box of excellent Riso Gallo Carnaroli rice together with the recipes. \nThe event will raise further funds to Cureleukaemia\, a charity that Hayden is patron of. The two Recipes are excerpts from his book and this can be ordered via https://www.3tourschallenge.com/ with less than 100 copies remaining this £30 purchase goes directly to the charity\, or you can choose to support Hayden and the charity via his Just Giving link as he prepares to take on the gruelling Tour de France in June – https://www.justgiving.com/fundraising/hayden-gt15 \n  \n \n  \nLEARN\nStephen Ongley from Liebherr Great Britain will give members an overview of refrigeration and freezing looking at: \n\nHow to get the most out of your fridge or freezer\nHygiene & Safety\nHow to save energy consumption\nLong-lasting appliance care/maintenance\n\n \n  \nCONNECT\nStay online to catch up with colleagues and share industry news. \nTo book\, please email louise@fcsi.org.
URL:https://fcsi.org.uk/event/taste-learn-connect/
END:VEVENT
BEGIN:VEVENT
DTSTART;TZID=Europe/London:20210225T143000
DTEND;TZID=Europe/London:20210225T153000
DTSTAMP:20260423T184510
CREATED:20210104T173546Z
LAST-MODIFIED:20210104T173546Z
UID:1092-1614263400-1614267000@fcsi.org.uk
SUMMARY:FCSI Zoom Meeting
DESCRIPTION:
URL:https://fcsi.org.uk/event/fcsi-zoom-meeting-2/
LOCATION:Zoom
ORGANIZER;CN="Louise Willis":MAILTO:louise@fcsi.org
END:VEVENT
BEGIN:VEVENT
DTSTART;TZID=Europe/London:20210128T143000
DTEND;TZID=Europe/London:20210128T153000
DTSTAMP:20260423T184510
CREATED:20210104T173457Z
LAST-MODIFIED:20210104T173457Z
UID:1090-1611844200-1611847800@fcsi.org.uk
SUMMARY:FCSI Zoom Meeting
DESCRIPTION:
URL:https://fcsi.org.uk/event/fcsi-zoom-meeting/
LOCATION:Zoom
ORGANIZER;CN="Louise Willis":MAILTO:louise@fcsi.org
END:VEVENT
BEGIN:VEVENT
DTSTART;VALUE=DATE:20201210
DTEND;VALUE=DATE:20201211
DTSTAMP:20260423T184510
CREATED:20200117T162633Z
LAST-MODIFIED:20200117T162633Z
UID:729-1607558400-1607644799@fcsi.org.uk
SUMMARY:AGM & Christmas Lunch
DESCRIPTION:Venue to be confirmed
URL:https://fcsi.org.uk/event/agm-christmas-lunch/
ORGANIZER;CN="Louise Willis":MAILTO:louise@fcsi.org
END:VEVENT
BEGIN:VEVENT
DTSTART;VALUE=DATE:20200908
DTEND;VALUE=DATE:20200910
DTSTAMP:20260423T184510
CREATED:20200219T112944Z
LAST-MODIFIED:20200219T113004Z
UID:737-1599523200-1599695999@fcsi.org.uk
SUMMARY:Restaurant\, Takeaway Innovation Expo - Partnership
DESCRIPTION:Europe’s leading event for takeaway and restaurant owners looking to boost their profits. \nFrom mobile payments and delivery to sustainability and food waste\, the Restaurant & Takeaway Innovation Expo brings the whole restaurant industry together!
URL:https://fcsi.org.uk/event/restaurant-takeaway-innovation-expo-partnership/
LOCATION:ExCel Centre\, Royal Victoria Dock\, 1 Western Gate\, London\, E16 1XL
ATTACH;FMTTYPE=image/jpeg:https://fcsi.org.uk/wp-content/uploads/2020/02/Portalbanner300_250.jpg
END:VEVENT
BEGIN:VEVENT
DTSTART;TZID=Europe/London:20200520T123000
DTEND;TZID=Europe/London:20200520T153000
DTSTAMP:20260423T184510
CREATED:20200117T161603Z
LAST-MODIFIED:20200117T161603Z
UID:721-1589977800-1589988600@fcsi.org.uk
SUMMARY:Ugly Butterfly
DESCRIPTION:
URL:https://fcsi.org.uk/event/ugly-butterfly/
LOCATION:55 King’s Rd\, 55 King's Rd\, Chelsea\, London\, SW3 4ND\, United Kingdom
ORGANIZER;CN="Louise Willis":MAILTO:louise@fcsi.org
END:VEVENT
BEGIN:VEVENT
DTSTART;TZID=Europe/London:20200220T120000
DTEND;TZID=Europe/London:20200220T180000
DTSTAMP:20260423T184510
CREATED:20200117T161421Z
LAST-MODIFIED:20200117T161421Z
UID:718-1582200000-1582221600@fcsi.org.uk
SUMMARY:Tottenham Hotspur Stadium
DESCRIPTION:
URL:https://fcsi.org.uk/event/tottenham-hotspur-stadium/
LOCATION:Tottenham Hotspur Stadium\, 782 High Rd\, Tottenham\, London\, N17 0BX\, United Kingdom
ORGANIZER;CN="Louise Willis":MAILTO:louise@fcsi.org
END:VEVENT
BEGIN:VEVENT
DTSTART;VALUE=DATE:20191212
DTEND;VALUE=DATE:20191213
DTSTAMP:20260423T184510
CREATED:20190122T121555Z
LAST-MODIFIED:20190208T103717Z
UID:497-1576108800-1576195199@fcsi.org.uk
SUMMARY:AGM & Christmas Lunch Sunborn Yacht\, ExCel
DESCRIPTION:
URL:https://fcsi.org.uk/event/agm-christmas-lunch-sunborn-yacht-excel/
LOCATION:Sunborn Yacht\, ExCel\, Royal Victoria Dock\, Western Gateway\, London\, E16 1AA\, United Kingdom
ATTACH;FMTTYPE=image/jpeg:https://fcsi.org.uk/wp-content/uploads/2019/01/FCSI-UK-AGM-Christmas-lunch-sunborn-yacht.jpg
ORGANIZER;CN="Louise Willis":MAILTO:louise@fcsi.org
END:VEVENT
BEGIN:VEVENT
DTSTART;VALUE=DATE:20191119
DTEND;VALUE=DATE:20191121
DTSTAMP:20260423T184510
CREATED:20190619T072905Z
LAST-MODIFIED:20190711T084809Z
UID:621-1574121600-1574294399@fcsi.org.uk
SUMMARY:The Restaurant & Takeaway Innovation Expo
DESCRIPTION:The Restaurant & Takeaway Innovation Expo makes its much-anticipated return to the ExCeL London on the 19th & 20th November\, forming THE ultimate event to help you boost your profits\, build your brand and grow your business for an unprecedented 7th year running. \nHaving secured your FREE ticket to the 2019 event\, you can expect to immerse yourself in the ultimate marketplace for takeaway and restaurants owners\, courtesy of this year’s incredible line-up boasting over 350 cutting-edge suppliers\, 250 inspirational seminars\, panel debates\, countless networking opportunities\, the illustrious Innovation Awards\, and much more! \nAll under one roof\, you’ll be able to try\, touch and test all the latest products\, solutions and systems from across the globe that are driving innovation\, and hear industry experts from the biggest brands on the planet divulge their very own secrets to success\, enabling you to return to your business armed with ambition and brimming with ideas and inspiration. \nBetter still\, this year’s instalment runs alongside 5 other industry-leading events; collectively forming #FES19\, THE biggest business growth event for the world of food and drink. \nSo what are you waiting for? Register for your free ticket now via takeawayexpo.co.uk. \nFor Exhibiting & Sponsorship enquiries:\nJames Williams – Managing Director\nJames.Williams@prysmgroup.co.uk\n+44 (0) 117 990 2850 \nFor Marketing & Press enquiries:\nLizzie Duffin – Marketing Manager\nLizzie.Duffin@prysmgroup.co.uk\n+44 (0) 117 990 2096 \n 
URL:https://fcsi.org.uk/event/the-restaurant-takeaway-innovation-expo/
LOCATION:ExCel Centre\, Royal Victoria Dock\, 1 Western Gate\, London\, E16 1XL
ATTACH;FMTTYPE=image/jpeg:https://fcsi.org.uk/wp-content/uploads/2019/06/The-Restaurant-Takeaway-Innovation-Expo.jpg
ORGANIZER;CN="Louise Willis":MAILTO:louise@fcsi.org
END:VEVENT
BEGIN:VEVENT
DTSTART;TZID=Europe/London:20190911T103000
DTEND;TZID=Europe/London:20190911T150000
DTSTAMP:20260423T184510
CREATED:20190122T121352Z
LAST-MODIFIED:20190208T103855Z
UID:495-1568197800-1568214000@fcsi.org.uk
SUMMARY:Education Day School of Artisan Food\, Nottingham
DESCRIPTION:10.30 – 3.00\nEducation day to include a presentation about the school and its mission from MD Julie Byrne\, a tour of the school\, a food tasting and a presentation from True on their involvement with the school.
URL:https://fcsi.org.uk/event/education-day-school-of-artisan-food-nottingham/
LOCATION:School of Artisan Food\, Lower Motor Yard\, Welbeck\, S80 3LR
ATTACH;FMTTYPE=image/jpeg:https://fcsi.org.uk/wp-content/uploads/2019/01/education-day-school-artisan-food.jpg
ORGANIZER;CN="Louise Willis":MAILTO:louise@fcsi.org
END:VEVENT
BEGIN:VEVENT
DTSTART;VALUE=DATE:20190604
DTEND;VALUE=DATE:20190606
DTSTAMP:20260423T184510
CREATED:20190122T121117Z
LAST-MODIFIED:20190208T102148Z
UID:491-1559606400-1559779199@fcsi.org.uk
SUMMARY:Exhibiting at The Commercial Kitchen Show
DESCRIPTION:
URL:https://fcsi.org.uk/event/exhibiting-at-the-commercial-kitchen-show/
LOCATION:NEC\, Birmingham\, North Ave\, Marston Green\, Birmingham\, B40 1NT
ATTACH;FMTTYPE=image/jpeg:https://fcsi.org.uk/wp-content/uploads/2019/01/Exhibiting-at-Commercial-Kitchen-Show.jpg
ORGANIZER;CN="Louise Willis":MAILTO:louise@fcsi.org
END:VEVENT
BEGIN:VEVENT
DTSTART;VALUE=DATE:20190516
DTEND;VALUE=DATE:20190517
DTSTAMP:20260423T184510
CREATED:20190122T120932Z
LAST-MODIFIED:20190208T103010Z
UID:489-1557964800-1558051199@fcsi.org.uk
SUMMARY:Social & Networking evening Mercato Metropolitano\, Mayfair
DESCRIPTION:An late afternoon/evening event – details to be confirmed.
URL:https://fcsi.org.uk/event/social-networking-evening-mercato-metropolitano-mayfair/
LOCATION:Mercato Metropolitano\, 42 Newington Causeway\, London\, SE1 6DR\, United Kingdom
ATTACH;FMTTYPE=image/jpeg:https://fcsi.org.uk/wp-content/uploads/2019/01/Visit-to-Mercato.jpg
ORGANIZER;CN="Louise Willis":MAILTO:louise@fcsi.org
END:VEVENT
BEGIN:VEVENT
DTSTART;VALUE=DATE:20190228
DTEND;VALUE=DATE:20190301
DTSTAMP:20260423T184510
CREATED:20190122T120826Z
LAST-MODIFIED:20190208T111232Z
UID:487-1551312000-1551398399@fcsi.org.uk
SUMMARY:Education Afternoon 110 Rochester Row\, Westminster
DESCRIPTION:1.00 – 1.45\nRegistration\, networking and light lunch \n1.45 – 2.00\nFCSI UK update – Matthew Merritt-Harrison \n2.00 – 2.45\nMaximising the impact social media has on your marketing & business with Sharon Kerby\, Tonic PR \nDesigned to enable both consultant and Allied members to maximise the impact social media has on their marketing and their businesses\, this training will explain how to improve your individual and organisation performance on LinkedIn and Twitter. It will include essential guidance for creating accounts\, company pages and professional profiles\, tips for maximising engagement and impact\, and practical guidance on how to manage your social media profile on an ongoing basis. \n2.45 – 3.15\nNetworking break and refreshments \n3.15 – 4.00\nContinuation of social media training \n4.00 – 5.00\nBrexit and the Supply Chain \n5.00\nDepart
URL:https://fcsi.org.uk/event/education-afternoon-110-rochester-row-westminster/
LOCATION:110 Rochester Row\, Westminster\, 110 Rochester Row\, Westminster\, London
ATTACH;FMTTYPE=image/jpeg:https://fcsi.org.uk/wp-content/uploads/2019/01/education-social.jpg
ORGANIZER;CN="Louise Willis":MAILTO:louise@fcsi.org
END:VEVENT
BEGIN:VEVENT
DTSTART;VALUE=DATE:20181206
DTEND;VALUE=DATE:20181207
DTSTAMP:20260423T184510
CREATED:20180608T160228Z
LAST-MODIFIED:20180727T073320Z
UID:445-1544054400-1544140799@fcsi.org.uk
SUMMARY:Christmas Lunch & AGM
DESCRIPTION:
URL:https://fcsi.org.uk/event/christmas-lunch-agm-2/
LOCATION:The Law Society\, 113 Chancery Lane\, London\, WC2A 1PL\, United Kingdom
ORGANIZER;CN="Louise Willis":MAILTO:louise@fcsi.org
END:VEVENT
BEGIN:VEVENT
DTSTART;VALUE=DATE:20180925
DTEND;VALUE=DATE:20180927
DTSTAMP:20260423T184510
CREATED:20180608T160102Z
LAST-MODIFIED:20180726T162824Z
UID:439-1537833600-1538006399@fcsi.org.uk
SUMMARY:Restaurant & Bar Design Show
DESCRIPTION:The Restaurant & Bar Design show is the UK’s largest and most comprehensive event specifically aimed at design professionals across the breadth of the restaurant\, bar and café sector. The event takes place on the 25th & 26th of September 2018 at ExCeL\, London. Order your free tickets now here. \nDiscover 200 suppliers showcasing latest tools\, techniques and design ideas transforming the future of the restaurant and bar sector. Listen to 120 expert seminars and engage in panel sessions revolving around topical discussions with inspirational industry giants. You’ll also benefit from interactive features\, innovation awards\, 1-2-1 business advice\, unparalleled networking opportunities with like-minded professionals and so much more. \nVisit our website to find out more: www.restaurantdesignshow.co.uk \n 
URL:https://fcsi.org.uk/event/restaurant-bar-design-show/
LOCATION:ExCel Centre\, Royal Victoria Dock\, 1 Western Gate\, London\, E16 1XL
ATTACH;FMTTYPE=image/jpeg:https://fcsi.org.uk/wp-content/uploads/2018/05/RestaurantBarDesignShow.jpg
ORGANIZER;CN="James Williams":MAILTO:James.Williams@prysmgroup.co.uk
END:VEVENT
BEGIN:VEVENT
DTSTART;VALUE=DATE:20180913
DTEND;VALUE=DATE:20180914
DTSTAMP:20260423T184510
CREATED:20180608T160154Z
LAST-MODIFIED:20180829T150637Z
UID:443-1536796800-1536883199@fcsi.org.uk
SUMMARY:Education Afternoon
DESCRIPTION:1.00 – 1.30\nRegistration with tea\, coffee & light lunch \n1.30 – 1.45\nJulian Edwards\nChairman’s update \n1.45 – 2.45\nMCA-Insight\nEating Out Report 2018 \n2.45 – 3.15\nAnsul/Johnson Controls\nEN16282 (Equipment for Commercial Kitchens) – Part 7 Installation\nAnd use of Fixed Fire Suppression Systems \n3.15 – 3.30\nNetworking break with tea\, coffee & snacks \n3.30 – 4.00\nJulian Edwards\nAn FSA update on the new Acrylamide Laws \n4.00 – 5.00\nKeith Warren\, CESA\nAn update on BIM \n5.00 – 5.30\nNetworking with drinks and canapes
URL:https://fcsi.org.uk/event/education-afternoon/
LOCATION:The Law Society\, 113 Chancery Lane\, London\, WC2A 1PL\, United Kingdom
ORGANIZER;CN="Louise Willis":MAILTO:louise@fcsi.org
END:VEVENT
BEGIN:VEVENT
DTSTART;VALUE=DATE:20180705
DTEND;VALUE=DATE:20180706
DTSTAMP:20260423T184510
CREATED:20180613T085033Z
LAST-MODIFIED:20180613T085033Z
UID:446-1530748800-1530835199@fcsi.org.uk
SUMMARY:Meeting at The National Catering Equipment Centre
DESCRIPTION:Venue to be advised
URL:https://fcsi.org.uk/event/meeting-at-the-national-catering-equipment-centre/
ORGANIZER;CN="Louise Willis":MAILTO:louise@fcsi.org
END:VEVENT
BEGIN:VEVENT
DTSTART;TZID=Europe/London:20180605T080000
DTEND;TZID=Europe/London:20180606T170000
DTSTAMP:20260423T184510
CREATED:20171026T073540Z
LAST-MODIFIED:20171026T112538Z
UID:292-1528185600-1528304400@fcsi.org.uk
SUMMARY:Commercial Kitchen Show & FCSI Meeting
DESCRIPTION:
URL:https://fcsi.org.uk/event/commercial-kitchen-show-fcsi-meeting/
LOCATION:NEC Birmingham\, National Exhibition Center\, Halls\, Marston Green\, Birmingham\, B40 1NT
ORGANIZER;CN="Louise Willis":MAILTO:louise@fcsi.org
END:VEVENT
BEGIN:VEVENT
DTSTART;TZID=Europe/London:20180516T130000
DTEND;TZID=Europe/London:20180516T180000
DTSTAMP:20260423T184510
CREATED:20180509T135348Z
LAST-MODIFIED:20180509T140239Z
UID:431-1526475600-1526493600@fcsi.org.uk
SUMMARY:FCSI UK&I Education Afternoon Royal Overseas League\, London
DESCRIPTION:1.00 – 1.30: Registration with tea\, coffee & a light lunch \n1.30 – 1.45: Julian Edwards – Chairman’s update  \n1.45 – 3.00: What a Waste!\nA session on waste & sustainability with Mick Jary\, Meiko and Steve Witt\, IMC joined by Lugano Kapembwa of LUKAP Consulting\, who will tell us about his involvement at Canary Wharf on the subject. \n3.00 – 3.20: Networking break with tea\, coffee & snacks \n3.20 – 4.20: GDPR – what you need to know! \n4.20 – 5.00: Legislation on waste – Keith Warren from CESA \n5.00 – 5.30: Catering Management Software Systems & how they can help to reduce waste with Kafoodle \n5.30 – 6.15: Networking with drinks and canapes in the lovely ROSL Garden \n\nYou’ll recall the Anaphylaxis Campaign is our Chair’s charity.\nAs we’ll be together on the 16th May\, at the Education Day in London\, it seemed appropriate that we can all participate\, albeit a couple of days early\, for the 2018 Orange Wig Day!!  Therefore\, be warned that there will be Orange Wigs flying around (for your very own selfie!) and a small collection box!!  Thank you! (www.orangewigday.co.uk)
URL:https://fcsi.org.uk/event/fcsi-uki-education-afternoon-royal-overseas-league-london/
LOCATION:The Royal Overseas League\, 5 Park Pl\, St. James's\, London\, SW1A 1LR\, United Kingdom
ORGANIZER;CN="Louise Willis":MAILTO:louise@fcsi.org
END:VEVENT
BEGIN:VEVENT
DTSTART;VALUE=DATE:20180516
DTEND;VALUE=DATE:20180517
DTSTAMP:20260423T184510
CREATED:20171026T073513Z
LAST-MODIFIED:20180201T085850Z
UID:290-1526428800-1526515199@fcsi.org.uk
SUMMARY:Education Day
DESCRIPTION:Venue to be advised
URL:https://fcsi.org.uk/event/education-day/
ORGANIZER;CN="Louise Willis":MAILTO:louise@fcsi.org
END:VEVENT
BEGIN:VEVENT
DTSTART;TZID=Europe/London:20180306T160000
DTEND;TZID=Europe/London:20180306T170000
DTSTAMP:20260423T184510
CREATED:20171026T073442Z
LAST-MODIFIED:20180201T090047Z
UID:288-1520352000-1520355600@fcsi.org.uk
SUMMARY:Hotelympia & FCSI Event with EAME Colleagues
DESCRIPTION:FCSI Members Meeting in South Gallery Room 29 at ExCel London for approximately an hour\, followed by drinks and canapes on the Rational stand (No. 1210).  At 6pm to 9.30pm transport to and dinner at The Plateau Restaurant in Canary Wharf. \nSponsored by 
URL:https://fcsi.org.uk/event/hotelympia-fcsi-event-with-eame-colleagues/
LOCATION:ExCel Centre\, Royal Victoria Dock\, 1 Western Gate\, London\, E16 1XL
ORGANIZER;CN="Louise Willis":MAILTO:louise@fcsi.org
END:VEVENT
BEGIN:VEVENT
DTSTART;TZID=Europe/London:20180208T180000
DTEND;TZID=Europe/London:20180208T210000
DTSTAMP:20260423T184510
CREATED:20171026T073347Z
LAST-MODIFIED:20180201T085504Z
UID:285-1518112800-1518123600@fcsi.org.uk
SUMMARY:Wine & Food Pairing - Bedales
DESCRIPTION:Sponsored by Liebherr 
URL:https://fcsi.org.uk/event/wine-food-pairing-bedales/
LOCATION:Leadenhall Market\, Bedales\, 55 Leadenhall Market\, London\, EC3V 1LT
END:VEVENT
BEGIN:VEVENT
DTSTART;TZID=Europe/London:20171207T080000
DTEND;TZID=Europe/London:20171207T170000
DTSTAMP:20260423T184510
CREATED:20171026T073238Z
LAST-MODIFIED:20171026T073238Z
UID:283-1512633600-1512666000@fcsi.org.uk
SUMMARY:Christmas Lunch & AGM
DESCRIPTION:
URL:https://fcsi.org.uk/event/christmas-lunch-agm/
LOCATION:Dartmouth House\, 37 Charles St\, Mayfair\, London \, W1J 5ED\, United Kingdom
ORGANIZER;CN="Louise Willis":MAILTO:louise@fcsi.org
END:VEVENT
BEGIN:VEVENT
DTSTART;TZID=Europe/London:20171115T150000
DTEND;TZID=Europe/London:20171115T170000
DTSTAMP:20260423T184510
CREATED:20171026T073212Z
LAST-MODIFIED:20171110T142317Z
UID:280-1510758000-1510765200@fcsi.org.uk
SUMMARY:Professional Members Meeting - CESA Conference
DESCRIPTION:
URL:https://fcsi.org.uk/event/professional-members-meeting-cesa-conference/
LOCATION:Wokefield Park\, Goodboys Road\, Mortimer\, Reading\, RG7 3AE
ORGANIZER;CN="Louise Willis":MAILTO:louise@fcsi.org
END:VEVENT
BEGIN:VEVENT
DTSTART;VALUE=DATE:20171012
DTEND;VALUE=DATE:20171013
DTSTAMP:20260423T184510
CREATED:20170804T142841Z
LAST-MODIFIED:20170804T142841Z
UID:231-1507766400-1507852799@fcsi.org.uk
SUMMARY:FCSI Education Day
DESCRIPTION:
URL:https://fcsi.org.uk/event/fcsi-education-day/
ORGANIZER;CN="Louise Willis":MAILTO:louise@fcsi.org
END:VEVENT
BEGIN:VEVENT
DTSTART;VALUE=DATE:20170926
DTEND;VALUE=DATE:20170928
DTSTAMP:20260423T184510
CREATED:20170502T092953Z
LAST-MODIFIED:20170502T092953Z
UID:58-1506384000-1506556799@fcsi.org.uk
SUMMARY:Restaurant Design Show
DESCRIPTION:We are a supporter of the show and one of our consultants\, Arnold Fewell will be speaking.
URL:https://fcsi.org.uk/event/restaurant-design-show/
LOCATION:ExCel\, E16 1XL\, United Kingdom
END:VEVENT
BEGIN:VEVENT
DTSTART;VALUE=DATE:20170921
DTEND;VALUE=DATE:20170922
DTSTAMP:20260423T184510
CREATED:20170804T142818Z
LAST-MODIFIED:20170804T142818Z
UID:229-1505952000-1506038399@fcsi.org.uk
SUMMARY:Wine and food pairing
DESCRIPTION:
URL:https://fcsi.org.uk/event/wine-and-food-pairing/
ORGANIZER;CN="Louise Willis":MAILTO:louise@fcsi.org
END:VEVENT
BEGIN:VEVENT
DTSTART;VALUE=DATE:20170920
DTEND;VALUE=DATE:20170921
DTSTAMP:20260423T184510
CREATED:20170502T092840Z
LAST-MODIFIED:20170804T142731Z
UID:55-1505865600-1505951999@fcsi.org.uk
SUMMARY:Universal Cookery & Food Festival
DESCRIPTION:
URL:https://fcsi.org.uk/event/universal-cookery-food-festival/
LOCATION:Padstow Food Festival\, Padstow\, United Kingdom
ORGANIZER;CN="Louise Willis":MAILTO:louise@fcsi.org
END:VEVENT
END:VCALENDAR