BEGIN:VCALENDAR
VERSION:2.0
PRODID:-//FCSI - ECPv6.15.15//NONSGML v1.0//EN
CALSCALE:GREGORIAN
METHOD:PUBLISH
X-WR-CALNAME:FCSI
X-ORIGINAL-URL:https://fcsi.org.uk
X-WR-CALDESC:Events for FCSI
REFRESH-INTERVAL;VALUE=DURATION:PT1H
X-Robots-Tag:noindex
X-PUBLISHED-TTL:PT1H
BEGIN:VTIMEZONE
TZID:Europe/London
BEGIN:DAYLIGHT
TZOFFSETFROM:+0000
TZOFFSETTO:+0100
TZNAME:BST
DTSTART:20250330T010000
END:DAYLIGHT
BEGIN:STANDARD
TZOFFSETFROM:+0100
TZOFFSETTO:+0000
TZNAME:GMT
DTSTART:20251026T010000
END:STANDARD
BEGIN:DAYLIGHT
TZOFFSETFROM:+0000
TZOFFSETTO:+0100
TZNAME:BST
DTSTART:20260329T010000
END:DAYLIGHT
BEGIN:STANDARD
TZOFFSETFROM:+0100
TZOFFSETTO:+0000
TZNAME:GMT
DTSTART:20261025T010000
END:STANDARD
BEGIN:DAYLIGHT
TZOFFSETFROM:+0000
TZOFFSETTO:+0100
TZNAME:BST
DTSTART:20270328T010000
END:DAYLIGHT
BEGIN:STANDARD
TZOFFSETFROM:+0100
TZOFFSETTO:+0000
TZNAME:GMT
DTSTART:20271031T010000
END:STANDARD
END:VTIMEZONE
BEGIN:VEVENT
DTSTART;TZID=Europe/London:20260430T120000
DTEND;TZID=Europe/London:20260430T170000
DTSTAMP:20260424T004955
CREATED:20260302T112130Z
LAST-MODIFIED:20260313T104817Z
UID:3402-1777550400-1777568400@fcsi.org.uk
SUMMARY:Taste Learn Connect Event
DESCRIPTION:
URL:https://fcsi.org.uk/event/taste-learn-connect-event/
LOCATION:1 Mercer Walk\, London WC2H 9FA\, 1 Mercer Walk\, London\, WC2H 9FA\, United Kingdom
ORGANIZER;CN="Louise Willis":MAILTO:louise@fcsi.org
END:VEVENT
BEGIN:VEVENT
DTSTART;TZID=Europe/London:20260528T180000
DTEND;TZID=Europe/London:20260531T100000
DTSTAMP:20260424T004955
CREATED:20260302T112409Z
LAST-MODIFIED:20260302T173052Z
UID:3406-1779991200-1780221600@fcsi.org.uk
SUMMARY:FCSI EAME Conference
DESCRIPTION:
URL:https://fcsi.org.uk/event/fcsi-eame-conference/
LOCATION:Titanic Hotel\, Liverpool\, Titanic Hotel Liverpool\, Stanley Dock\, Regent Road\, Liverpool\, L3 0AN\, United Kingdom
ORGANIZER;CN="Louise Willis":MAILTO:louise@fcsi.org
END:VEVENT
BEGIN:VEVENT
DTSTART;TZID=Europe/London:20260716T120000
DTEND;TZID=Europe/London:20260716T170000
DTSTAMP:20260424T004955
CREATED:20260302T112623Z
LAST-MODIFIED:20260302T174821Z
UID:3410-1784203200-1784221200@fcsi.org.uk
SUMMARY:Summer Lunch at The Orangery
DESCRIPTION:
URL:https://fcsi.org.uk/event/summer-lunch-at-the-orangery/
LOCATION:The Orangery\, Tottenham Court Road\, 81 New Oxford St\, London\, WC1A 1DG\, United Kingdom
ORGANIZER;CN="Louise Willis":MAILTO:louise@fcsi.org
END:VEVENT
BEGIN:VEVENT
DTSTART;TZID=Europe/London:20260924T120000
DTEND;TZID=Europe/London:20260924T170000
DTSTAMP:20260424T004955
CREATED:20260302T112721Z
LAST-MODIFIED:20260302T174817Z
UID:3414-1790251200-1790269200@fcsi.org.uk
SUMMARY:Taste Learn Connect Event
DESCRIPTION:Venue to be confirmed
URL:https://fcsi.org.uk/event/taste-learn-connect-event-2/
ORGANIZER;CN="Louise Willis":MAILTO:louise@fcsi.org
END:VEVENT
BEGIN:VEVENT
DTSTART;TZID=Europe/London:20261015T120000
DTEND;TZID=Europe/London:20261015T170000
DTSTAMP:20260424T004955
CREATED:20260302T112800Z
LAST-MODIFIED:20260302T174812Z
UID:3417-1792065600-1792083600@fcsi.org.uk
SUMMARY:Consultants Lunch
DESCRIPTION:
URL:https://fcsi.org.uk/event/consultants-lunch/
ORGANIZER;CN="Louise Willis":MAILTO:louise@fcsi.org
END:VEVENT
BEGIN:VEVENT
DTSTART;TZID=Europe/London:20261203T120000
DTEND;TZID=Europe/London:20261203T170000
DTSTAMP:20260424T004955
CREATED:20260302T112940Z
LAST-MODIFIED:20260302T174804Z
UID:3420-1796299200-1796317200@fcsi.org.uk
SUMMARY:Christmas Lunch
DESCRIPTION:
URL:https://fcsi.org.uk/event/christmas-lunch-2/
LOCATION:Cutler’s Hall\, London\, 4 Warwick Ln\, London\, EC4M 7BR
ORGANIZER;CN="Louise Willis":MAILTO:louise@fcsi.org
END:VEVENT
END:VCALENDAR