BEGIN:VCALENDAR
VERSION:2.0
PRODID:-//FCSI - ECPv6.15.15//NONSGML v1.0//EN
CALSCALE:GREGORIAN
METHOD:PUBLISH
X-WR-CALNAME:FCSI
X-ORIGINAL-URL:https://fcsi.org.uk
X-WR-CALDESC:Events for FCSI
REFRESH-INTERVAL;VALUE=DURATION:PT1H
X-Robots-Tag:noindex
X-PUBLISHED-TTL:PT1H
BEGIN:VTIMEZONE
TZID:Europe/London
BEGIN:DAYLIGHT
TZOFFSETFROM:+0000
TZOFFSETTO:+0100
TZNAME:BST
DTSTART:20200329T010000
END:DAYLIGHT
BEGIN:STANDARD
TZOFFSETFROM:+0100
TZOFFSETTO:+0000
TZNAME:GMT
DTSTART:20201025T010000
END:STANDARD
BEGIN:DAYLIGHT
TZOFFSETFROM:+0000
TZOFFSETTO:+0100
TZNAME:BST
DTSTART:20210328T010000
END:DAYLIGHT
BEGIN:STANDARD
TZOFFSETFROM:+0100
TZOFFSETTO:+0000
TZNAME:GMT
DTSTART:20211031T010000
END:STANDARD
BEGIN:DAYLIGHT
TZOFFSETFROM:+0000
TZOFFSETTO:+0100
TZNAME:BST
DTSTART:20220327T010000
END:DAYLIGHT
BEGIN:STANDARD
TZOFFSETFROM:+0100
TZOFFSETTO:+0000
TZNAME:GMT
DTSTART:20221030T010000
END:STANDARD
BEGIN:DAYLIGHT
TZOFFSETFROM:+0000
TZOFFSETTO:+0100
TZNAME:BST
DTSTART:20230326T010000
END:DAYLIGHT
BEGIN:STANDARD
TZOFFSETFROM:+0100
TZOFFSETTO:+0000
TZNAME:GMT
DTSTART:20231029T010000
END:STANDARD
BEGIN:DAYLIGHT
TZOFFSETFROM:+0000
TZOFFSETTO:+0100
TZNAME:BST
DTSTART:20240331T010000
END:DAYLIGHT
BEGIN:STANDARD
TZOFFSETFROM:+0100
TZOFFSETTO:+0000
TZNAME:GMT
DTSTART:20241027T010000
END:STANDARD
BEGIN:DAYLIGHT
TZOFFSETFROM:+0000
TZOFFSETTO:+0100
TZNAME:BST
DTSTART:20250330T010000
END:DAYLIGHT
BEGIN:STANDARD
TZOFFSETFROM:+0100
TZOFFSETTO:+0000
TZNAME:GMT
DTSTART:20251026T010000
END:STANDARD
BEGIN:DAYLIGHT
TZOFFSETFROM:+0000
TZOFFSETTO:+0100
TZNAME:BST
DTSTART:20260329T010000
END:DAYLIGHT
BEGIN:STANDARD
TZOFFSETFROM:+0100
TZOFFSETTO:+0000
TZNAME:GMT
DTSTART:20261025T010000
END:STANDARD
END:VTIMEZONE
BEGIN:VEVENT
DTSTART;TZID=Europe/London:20251204T120000
DTEND;TZID=Europe/London:20251204T160000
DTSTAMP:20260424T011757
CREATED:20250127T090305Z
LAST-MODIFIED:20250127T090346Z
UID:2710-1764849600-1764864000@fcsi.org.uk
SUMMARY:Christmas Lunch at Pewterers Livery Hall
DESCRIPTION:
URL:https://fcsi.org.uk/event/christmas-lunch-at-pewterers-livery-hall-12-noon-to-4pm/
ORGANIZER;CN="Louise Willis":MAILTO:louise@fcsi.org
END:VEVENT
BEGIN:VEVENT
DTSTART;TZID=Europe/London:20251002T120000
DTEND;TZID=Europe/London:20251002T160000
DTSTAMP:20260424T011757
CREATED:20250127T090240Z
LAST-MODIFIED:20250127T090435Z
UID:2707-1759406400-1759420800@fcsi.org.uk
SUMMARY:Consultants’ Lunch at North Tower Lounge\, Tower Walkways\, Tower Bridge plus short tour 12 noon to 4pm
DESCRIPTION:
URL:https://fcsi.org.uk/event/consultants-lunch-at-north-tower-lounge-tower-walkways-tower-bridge-plus-short-tour-12-noon-to-4pm/
ORGANIZER;CN="Louise Willis":MAILTO:louise@fcsi.org
END:VEVENT
BEGIN:VEVENT
DTSTART;TZID=Europe/London:20250703T110000
DTEND;TZID=Europe/London:20250703T160000
DTSTAMP:20260424T011757
CREATED:20250127T090214Z
LAST-MODIFIED:20250127T090526Z
UID:2705-1751540400-1751558400@fcsi.org.uk
SUMMARY:Summer Lunch at Swan London at the Globe Theatre plus short tour beforehand
DESCRIPTION:
URL:https://fcsi.org.uk/event/summer-lunch-at-swan-london-at-the-globe-theatre-plus-short-tour-beforehand-11-am-to-4pm/
ORGANIZER;CN="Louise Willis":MAILTO:louise@fcsi.org
END:VEVENT
BEGIN:VEVENT
DTSTART;VALUE=DATE:20250612
DTEND;VALUE=DATE:20250613
DTSTAMP:20260424T011757
CREATED:20250127T090141Z
LAST-MODIFIED:20250127T090602Z
UID:2702-1749686400-1749772799@fcsi.org.uk
SUMMARY:Education Day at Hobart UK in Peterborough
DESCRIPTION:
URL:https://fcsi.org.uk/event/education-day-at-hobart-uk-in-peterborough/
ORGANIZER;CN="Louise Willis":MAILTO:louise@fcsi.org
END:VEVENT
BEGIN:VEVENT
DTSTART;VALUE=DATE:20250318
DTEND;VALUE=DATE:20250319
DTSTAMP:20260424T011757
CREATED:20250127T090109Z
LAST-MODIFIED:20250127T090632Z
UID:2700-1742256000-1742342399@fcsi.org.uk
SUMMARY:Consultant meet on the Meiko Stand at 11am at HRC and Dinner at Tapa Tapa\, ExCel at 6.30 pm
DESCRIPTION:
URL:https://fcsi.org.uk/event/consultant-meet-on-the-meiko-stand-at-11am-at-hrc-and-dinner-at-tapa-tapa-excel-at-6-30-pm/
ORGANIZER;CN="Louise Willis":MAILTO:louise@fcsi.org
END:VEVENT
BEGIN:VEVENT
DTSTART;TZID=Europe/London:20250213T120000
DTEND;TZID=Europe/London:20250213T153000
DTSTAMP:20260424T011757
CREATED:20250127T090012Z
LAST-MODIFIED:20250127T090012Z
UID:2698-1739448000-1739460600@fcsi.org.uk
SUMMARY:Consultant visit to Notpla
DESCRIPTION:Short meeting and pizza lunch at 12 noon followed by 90 minute tour at 2pm.
URL:https://fcsi.org.uk/event/consultant-visit-to-notpla/
ORGANIZER;CN="Louise Willis":MAILTO:louise@fcsi.org
END:VEVENT
BEGIN:VEVENT
DTSTART;VALUE=DATE:20241205
DTEND;VALUE=DATE:20241206
DTSTAMP:20260424T011757
CREATED:20240206T175133Z
LAST-MODIFIED:20240206T175133Z
UID:2159-1733356800-1733443199@fcsi.org.uk
SUMMARY:Christmas Lunch at Haberdashers Hall
DESCRIPTION:
URL:https://fcsi.org.uk/event/christmas-lunch-at-haberdashers-hall/
LOCATION:Haberdashers’ Hall\, 18 West Smithfield\, London\, EC1A 9HQ\, United Kingdom
ORGANIZER;CN="Louise Willis":MAILTO:louise@fcsi.org
END:VEVENT
BEGIN:VEVENT
DTSTART;VALUE=DATE:20240926
DTEND;VALUE=DATE:20240927
DTSTAMP:20260424T011757
CREATED:20240206T174959Z
LAST-MODIFIED:20240206T174959Z
UID:2157-1727308800-1727395199@fcsi.org.uk
SUMMARY:Visit to Universal Cookery and Food Festival
DESCRIPTION:
URL:https://fcsi.org.uk/event/visit-to-universal-cookery-and-food-festival/
ORGANIZER;CN="Louise Willis":MAILTO:louise@fcsi.org
END:VEVENT
BEGIN:VEVENT
DTSTART;VALUE=DATE:20240718
DTEND;VALUE=DATE:20240719
DTSTAMP:20260424T011757
CREATED:20240206T174856Z
LAST-MODIFIED:20240206T174856Z
UID:2154-1721260800-1721347199@fcsi.org.uk
SUMMARY:Summer Lunch at The Gantry
DESCRIPTION:
URL:https://fcsi.org.uk/event/summer-lunch-at-the-gantry/
LOCATION:The Gantry\, 40 Celebration Avenue\, Stratford\, E20 1DB\, United Kingdom
ORGANIZER;CN="Louise Willis":MAILTO:louise@fcsi.org
END:VEVENT
BEGIN:VEVENT
DTSTART;TZID=Europe/London:20240530T173000
DTEND;TZID=Europe/London:20240530T230000
DTSTAMP:20260424T011757
CREATED:20240206T174627Z
LAST-MODIFIED:20240206T174627Z
UID:2151-1717090200-1717110000@fcsi.org.uk
SUMMARY:Evening event at Puttshack
DESCRIPTION:
URL:https://fcsi.org.uk/event/evening-event-at-puttshack/
LOCATION:Puttshack\, Bank\, 1 Poultry\, Queen Victoria Street\, London\, EC2R 8EJ\, United Kingdom
ORGANIZER;CN="Louise Willis":MAILTO:louise@fcsi.org
END:VEVENT
BEGIN:VEVENT
DTSTART;VALUE=DATE:20240418
DTEND;VALUE=DATE:20240419
DTSTAMP:20260424T011757
CREATED:20240206T174332Z
LAST-MODIFIED:20240206T174332Z
UID:2149-1713398400-1713484799@fcsi.org.uk
SUMMARY:Educational day at Jestic in Kent
DESCRIPTION:
URL:https://fcsi.org.uk/event/educational-day-at-jestic-in-kent/
ORGANIZER;CN="Louise Willis":MAILTO:louise@fcsi.org
END:VEVENT
BEGIN:VEVENT
DTSTART;TZID=Europe/London:20240326T183000
DTEND;TZID=Europe/London:20240326T220000
DTSTAMP:20260424T011757
CREATED:20240206T174233Z
LAST-MODIFIED:20240206T174233Z
UID:2146-1711477800-1711490400@fcsi.org.uk
SUMMARY:Early dinner after visit to HRC at Fish Game in Canary Wharf
DESCRIPTION:
URL:https://fcsi.org.uk/event/early-dinner-after-visit-to-hrc-at-fish-game-in-canary-wharf/
LOCATION:Fish Game\, 20 Water Street\, Wood Wharf\, London\, E14 5GX\, United Kingdom
ORGANIZER;CN="Louise Willis":MAILTO:louise@fcsi.org
END:VEVENT
BEGIN:VEVENT
DTSTART;VALUE=DATE:20231207
DTEND;VALUE=DATE:20231208
DTSTAMP:20260424T011757
CREATED:20230524T142308Z
LAST-MODIFIED:20230925T074216Z
UID:1737-1701907200-1701993599@fcsi.org.uk
SUMMARY:Christmas Lunch
DESCRIPTION:
URL:https://fcsi.org.uk/event/christmas-lunch/
LOCATION:Farmers and Fletchers in the City\, 3 Cloth St\, Barbican\, London\, EC1A 7LD\, United Kingdom
ORGANIZER;CN="Louise Willis":MAILTO:louise@fcsi.org
END:VEVENT
BEGIN:VEVENT
DTSTART;VALUE=DATE:20230720
DTEND;VALUE=DATE:20230721
DTSTAMP:20260424T011757
CREATED:20230524T142236Z
LAST-MODIFIED:20230524T142236Z
UID:1735-1689811200-1689897599@fcsi.org.uk
SUMMARY:Summer Lunch
DESCRIPTION:Venue to be confirmed
URL:https://fcsi.org.uk/event/summer-lunch/
END:VEVENT
BEGIN:VEVENT
DTSTART;TZID=Europe/London:20221208T120000
DTEND;TZID=Europe/London:20221208T150000
DTSTAMP:20260424T011757
CREATED:20221124T135038Z
LAST-MODIFIED:20221124T135038Z
UID:1596-1670500800-1670511600@fcsi.org.uk
SUMMARY:FCSI UK&I Christmas Lunch at Browns Restaurant\, Covent Garden
DESCRIPTION:
URL:https://fcsi.org.uk/event/fcsi-uki-christmas-lunch-at-browns-restaurant-covent-garden/
LOCATION:Browns Covent Garden\, 82-84 St. Martins Lane\, Covent Garden\, London\, WC2N 4AG\, United Kingdom
ORGANIZER;CN="Louise Willis":MAILTO:louise@fcsi.org
END:VEVENT
BEGIN:VEVENT
DTSTART;TZID=Europe/London:20221018T080000
DTEND;TZID=Europe/London:20221019T190000
DTSTAMP:20260424T011757
CREATED:20220927T130022Z
LAST-MODIFIED:20220927T130022Z
UID:1562-1666080000-1666206000@fcsi.org.uk
SUMMARY:European FOG Summit
DESCRIPTION:
URL:https://fcsi.org.uk/event/european-fog-summit/
LOCATION:Titanic Hotel Stanley Dock\, Regent Road\, Liverpool\, L3 0AN\, United Kingdom
END:VEVENT
BEGIN:VEVENT
DTSTART;TZID=Europe/London:20221012T170000
DTEND;TZID=Europe/London:20221012T233000
DTSTAMP:20260424T011757
CREATED:20220921T092231Z
LAST-MODIFIED:20220921T092231Z
UID:1556-1665594000-1665617400@fcsi.org.uk
SUMMARY:Swinger’s Crazy Golf
DESCRIPTION:The event will start at 5pm with drinks in our reserved area and we will tee off at 6.15 pm.  Food is included and will be from the ‘Street Food’ vendors at the venue.  A chance to network while having some fun with a competitive edge! \nTickets are £50+VAT and you can either book and pay using this link here https://www.designmynight.com/london/bars/west-end/swingers-west-end/fcsi-mini-golf-networking-event?t=tickets or if you would prefer to pay by invoice\, please email me and I will arrange this for you.
URL:https://fcsi.org.uk/event/swingers-crazy-golf/
LOCATION:Swimgers\, 15 John Prince's Street\, London\, W1G 0AB\, United Kingdom
ORGANIZER;CN="Louise Willis":MAILTO:louise@fcsi.org
END:VEVENT
BEGIN:VEVENT
DTSTART;TZID=Europe/London:20220714T123000
DTEND;TZID=Europe/London:20220714T153000
DTSTAMP:20260424T011757
CREATED:20220617T110946Z
LAST-MODIFIED:20220618T084359Z
UID:1500-1657801800-1657812600@fcsi.org.uk
SUMMARY:FCSI UK&I Summer Lunch
DESCRIPTION:Venue\nAqua Shard\nLevel 31\, The Shard\, 31 St Thomas Street\nLondon\, SE1 9RY United Kingdom
URL:https://fcsi.org.uk/event/fcsi-uki-summer-lunch/
LOCATION:Aqua Shard\, Level 31\, The Shard\, 31 St Thomas Street\, London\, SE1 9RY\, United Kingdom
ORGANIZER;CN="Louise Willis":MAILTO:louise@fcsi.org
END:VEVENT
BEGIN:VEVENT
DTSTART;VALUE=DATE:20220512
DTEND;VALUE=DATE:20220516
DTSTAMP:20260424T011757
CREATED:20200117T162602Z
LAST-MODIFIED:20210930T132916Z
UID:726-1652313600-1652659199@fcsi.org.uk
SUMMARY:EAME Conference
DESCRIPTION:
URL:https://fcsi.org.uk/event/eame-conference/
LOCATION:Hyatt Regency Chantilly\, 4 Route de Senlis\, 60500 Vineuil-Saint-Firmin\, Paris\, France
ORGANIZER;CN="Louise Willis":MAILTO:louise@fcsi.org
END:VEVENT
BEGIN:VEVENT
DTSTART;VALUE=DATE:20220331
DTEND;VALUE=DATE:20220401
DTSTAMP:20260424T011757
CREATED:20220315T014059Z
LAST-MODIFIED:20220315T180129Z
UID:1478-1648684800-1648771199@fcsi.org.uk
SUMMARY:FCSI UK&I Taste Learn Connect – Mary Ward House\, Tavistock Square – 31st March 2022 - Cost £20 + VAT
DESCRIPTION:1.00 to 1.45 pm Reception with light lunch & networking \n1.45 to 2.00 pm FCSI update from Julian Edwards \n2.00 to 2.45 pm Presentation from Rob Henry FIFST ACIEH at CaterCloud – ‘What you need to know about the new regulations around calorie counting on menus’ www.catercloud.com \n2.45 to 3.30 pm Presentation from Amy Fetzer from WRAP – the latest on their 2022 strategy and Food Waste Action week \n3.30 to 3.45 pm Tea break \n3.45 to 4.30 pm Presentation from Matthew Fox at Just Eat for Business \n\nCatering for a hybrid workforce\nTraditional catering & delivered-in: a symbiotic relationship\nRole of CSR and sustainability in corporate catering\n\n4.30 to 5.30 pm A short demonstration by Jestic of the new Vitamix Commercial with Cocktails and Mocktails to finish the afternoon \n5.30 pm Close
URL:https://fcsi.org.uk/event/fcsi-uki-taste-learn-connect-mary-ward-house-tavistock-square-31st-march-2022-cost-20-vat/
LOCATION:Mary Ward House\, 5 - 7 Tavistock Place\, London\, WC1H 9SNWC1H 9SN\, United Kingdom
ORGANIZER;CN="Louise Willis":MAILTO:louise@fcsi.org
END:VEVENT
BEGIN:VEVENT
DTSTART;TZID=Europe/London:20220321T090000
DTEND;TZID=Europe/London:20220323T170000
DTSTAMP:20260424T011757
CREATED:20220315T013502Z
LAST-MODIFIED:20220315T013756Z
UID:1476-1647853200-1648054800@fcsi.org.uk
SUMMARY:Hotel Restaurant & Catering Exhibition at ExCel – 21st to 23rd March 2022
DESCRIPTION:The details of our allied members exhibiting at HRC can be found here  – please use this to find them at the show\, have a chat and collect their unique number to be entered into the prize draw for a meal for 2 up to £250 at a choice of 3 Michelin starred restaurants: \nCORE by Claire Smyth in London  |  Northcote in Lancashire  |  Paul Ainsworth at No. 6 in Padstow \nAlso at the exhibition at 4.30 pm on the 21st of March\, FCSI will be hosting a short drinks reception for all members on the Welbilt stand – P240.
URL:https://fcsi.org.uk/event/hotel-restaurant-catering-exhibition-at-excel-21st-to-23rd-march-2022/
LOCATION:ExCel Centre\, Royal Victoria Dock\, 1 Western Gate\, London\, E16 1XL
ORGANIZER;CN="Louise Willis":MAILTO:louise@fcsi.org
END:VEVENT
BEGIN:VEVENT
DTSTART;VALUE=DATE:20211202
DTEND;VALUE=DATE:20211203
DTSTAMP:20260424T011757
CREATED:20211020T072607Z
LAST-MODIFIED:20211029T110850Z
UID:1407-1638403200-1638489599@fcsi.org.uk
SUMMARY:Christmas Lunch at the Pan Pacific Hotel
DESCRIPTION:
URL:https://fcsi.org.uk/event/christmas-lunch-at-the-pan-pacific-hotel/
LOCATION:Pan Pacific Hotel\, 80 Houndsditch\, London\, EC3A 7AB\, United Kingdom
ORGANIZER;CN="Louise Willis":MAILTO:louise@fcsi.org
END:VEVENT
BEGIN:VEVENT
DTSTART;TZID=Europe/London:20211103T100000
DTEND;TZID=Europe/London:20211103T150000
DTSTAMP:20260424T011757
CREATED:20210930T132808Z
LAST-MODIFIED:20210930T132808Z
UID:1391-1635933600-1635951600@fcsi.org.uk
SUMMARY:The Environment Bill and its impact on our Industry
DESCRIPTION:An FCSI UK&I open session at Westminster Kingsway College\, 76 Vincent Square\, London SW1P 2PD\nfrom 10.00 am to 3.00 pm \nRefreshments & Lunch included – to book contact Louise Willis – louise@fcsi.org \n  \nSpeakers\nAmy Fetzer – Foodprint Media Group\nDesigning Waste out of the Commercial Kitchen – An Industry Report \nNeil Turton – BioteCH4\nAnaerobic Digestion – Processes\, Solutions & Benefits \nKeith Warren – FEA & Erik Mul\, ACO Technologies\nThe Environment Bill \nMick Jary – Meiko\nGreen Waste Solutions \nJulian Edwards – FCSI UK&I\nOperator Training
URL:https://fcsi.org.uk/event/the-environment-bill-and-its-impact-on-our-industry/
LOCATION:Westminster Kingsway College\, 76 Vincent Square\, London\, SW1P 2PD\, United Kingdom
ORGANIZER;CN="Louise Willis":MAILTO:louise@fcsi.org
END:VEVENT
BEGIN:VEVENT
DTSTART;VALUE=DATE:20210923
DTEND;VALUE=DATE:20210925
DTSTAMP:20260424T011757
CREATED:20200117T161656Z
LAST-MODIFIED:20210318T143835Z
UID:724-1632355200-1632527999@fcsi.org.uk
SUMMARY:Commercial Kitchen Show
DESCRIPTION:
URL:https://fcsi.org.uk/event/commercial-kitchen-show/
LOCATION:ExCel Centre\, Royal Victoria Dock\, 1 Western Gate\, London\, E16 1XL
ORGANIZER;CN="Louise Willis":MAILTO:louise@fcsi.org
END:VEVENT
BEGIN:VEVENT
DTSTART;TZID=Europe/London:20210708T123000
DTEND;TZID=Europe/London:20210708T153000
DTSTAMP:20260424T011757
CREATED:20210608T133347Z
LAST-MODIFIED:20210608T133847Z
UID:1260-1625747400-1625758200@fcsi.org.uk
SUMMARY:Lunch at Eataly
DESCRIPTION:Event Cost: £50+VAT
URL:https://fcsi.org.uk/event/lunch-at-eataly/
LOCATION:Eataly London\, 135 Bishopsgate\, London\, EC2M 3YD\, United Kingdom
ATTACH;FMTTYPE=image/jpeg:https://fcsi.org.uk/wp-content/uploads/2021/06/Eataly-restaurant.jpg
ORGANIZER;CN="Louise Willis":MAILTO:louise@fcsi.org
END:VEVENT
BEGIN:VEVENT
DTSTART;TZID=Europe/London:20210609T000000
DTEND;TZID=Europe/London:20210609T000000
DTSTAMP:20260424T011757
CREATED:20210519T104017Z
LAST-MODIFIED:20210602T075524Z
UID:1197-1623196800-1623196800@fcsi.org.uk
SUMMARY:How to find new work opportunities and get the most out of networking (Pre-recorded)
DESCRIPTION:Host\nAlistair Sandall\, FIH \nWhen you start your own consultancy there can often be worries about where your next batch of work will come from. Many consultants have sleepless nights when things go quiet and then suddenly projects come in waves. Our experienced consultants will share ideas of where to get new work\, meet new contacts and how to sell yourself at networking events. The panel will also share their experience of managing workloads and getting that all important work-life balance. \nPanellists\nAnn Elliott\nMaryJane Flanagan\nVic Laws \nPre-recorded & available to watch at www.fcsi.org.uk.
URL:https://fcsi.org.uk/event/how-to-find-new-work-opportunities-and-get-the-most-out-of-networking-pre-recorded/
CATEGORIES:Webinars
END:VEVENT
BEGIN:VEVENT
DTSTART;TZID=Europe/London:20210607T110000
DTEND;TZID=Europe/London:20210607T110000
DTSTAMP:20260424T011757
CREATED:20210519T102818Z
LAST-MODIFIED:20210603T140937Z
UID:1194-1623063600-1623063600@fcsi.org.uk
SUMMARY:Lessons from the experts – the information every consultant wished they knew when they started
DESCRIPTION:Host\nMark Taylor\, Bloom Foodservice \nWe’ll be hearing from experienced consultants about what it is like to run a consultancy. The panel will share their stories\, the highs and lows and answer your burning questions. You will come away from this session inspired to start or develop your consultancy business but with a clear understanding of what it takes to succeed. You will also be able to learn more about the free online toolkit the FCSI UK&I has created along with other industry associations to help you kick-start your business. \nPanellists\nJulian Edwards\, GY5\nGiovanna Grossi\, Sauce Intelligence\nLouise Wagstaffe\, Delicious by Design\nKen Winch\, Ken Winch Design \nThis is a free session\, and you can register in advance for this webinar here: \nhttps://us02web.zoom.us/webinar/register/WN_l5MpRLO1RduyGo_fUphbiA \nAfter registering\, you will receive a confirmation email containing information about joining the webinar.
URL:https://fcsi.org.uk/event/lessons-from-the-experts-the-information-every-consultant-wished-they-knew-when-they-started/
LOCATION:Zoom
CATEGORIES:Webinars
ORGANIZER;CN="Louise Willis":MAILTO:louise@fcsi.org
END:VEVENT
BEGIN:VEVENT
DTSTART;VALUE=DATE:20210303
DTEND;VALUE=DATE:20210304
DTSTAMP:20260424T011757
CREATED:20210216T093945Z
LAST-MODIFIED:20210216T102416Z
UID:1112-1614729600-1614815999@fcsi.org.uk
SUMMARY:TASTE - LEARN - CONNECT
DESCRIPTION:TASTE\nFormer National Chef of the Year\, Hayden Groves\, is delivering an exclusive online Risotto masterclass for FCSI members in our next Taste-Learn-Connect event. \nSupported by Riso Gallo\,Groves will showcase two dishes from his award-winning charity book “back in the saddle” these can both be replicated at your leisure\, as you will each be receiving a box of excellent Riso Gallo Carnaroli rice together with the recipes. \nThe event will raise further funds to Cureleukaemia\, a charity that Hayden is patron of. The two Recipes are excerpts from his book and this can be ordered via https://www.3tourschallenge.com/ with less than 100 copies remaining this £30 purchase goes directly to the charity\, or you can choose to support Hayden and the charity via his Just Giving link as he prepares to take on the gruelling Tour de France in June – https://www.justgiving.com/fundraising/hayden-gt15 \n  \n \n  \nLEARN\nStephen Ongley from Liebherr Great Britain will give members an overview of refrigeration and freezing looking at: \n\nHow to get the most out of your fridge or freezer\nHygiene & Safety\nHow to save energy consumption\nLong-lasting appliance care/maintenance\n\n \n  \nCONNECT\nStay online to catch up with colleagues and share industry news. \nTo book\, please email louise@fcsi.org.
URL:https://fcsi.org.uk/event/taste-learn-connect/
END:VEVENT
BEGIN:VEVENT
DTSTART;TZID=Europe/London:20210225T143000
DTEND;TZID=Europe/London:20210225T153000
DTSTAMP:20260424T011757
CREATED:20210104T173546Z
LAST-MODIFIED:20210104T173546Z
UID:1092-1614263400-1614267000@fcsi.org.uk
SUMMARY:FCSI Zoom Meeting
DESCRIPTION:
URL:https://fcsi.org.uk/event/fcsi-zoom-meeting-2/
LOCATION:Zoom
ORGANIZER;CN="Louise Willis":MAILTO:louise@fcsi.org
END:VEVENT
BEGIN:VEVENT
DTSTART;TZID=Europe/London:20210128T143000
DTEND;TZID=Europe/London:20210128T153000
DTSTAMP:20260424T011757
CREATED:20210104T173457Z
LAST-MODIFIED:20210104T173457Z
UID:1090-1611844200-1611847800@fcsi.org.uk
SUMMARY:FCSI Zoom Meeting
DESCRIPTION:
URL:https://fcsi.org.uk/event/fcsi-zoom-meeting/
LOCATION:Zoom
ORGANIZER;CN="Louise Willis":MAILTO:louise@fcsi.org
END:VEVENT
END:VCALENDAR